BEGIN:VCALENDAR
VERSION:2.0
PRODID:spatie/icalendar-generator
DESCRIPTION:Hendelser fra Lius
X-WR-CALDESC:Hendelser fra Lius
REFRESH-INTERVAL;VALUE=DURATION:PT1440M
X-PUBLISHED-TTL:PT1440M
BEGIN:VTIMEZONE
TZID:Europe/Oslo
BEGIN:DAYLIGHT
DTSTART:20250330T020000Z
TZOFFSETFROM:+0100
TZOFFSETTO:+0200
END:DAYLIGHT
BEGIN:STANDARD
DTSTART:20251026T030000Z
TZOFFSETFROM:+0200
TZOFFSETTO:+0100
END:STANDARD
BEGIN:DAYLIGHT
DTSTART:20260329T020000Z
TZOFFSETFROM:+0100
TZOFFSETTO:+0200
END:DAYLIGHT
END:VTIMEZONE
BEGIN:VTIMEZONE
TZID:UTC
BEGIN:STANDARD
DTSTART:20250726T165704Z
TZOFFSETFROM:+0000
TZOFFSETTO:+0000
END:STANDARD
END:VTIMEZONE
BEGIN:VEVENT
UID:7-2
DTSTAMP:20260422T165704Z
SUMMARY:Åpning av Lius
LOCATION:Lius Skårersletta 65  Lørenskog  1473
ORGANIZER;CN=admin:MAILTO:ensomhetermarius@gmail.com
DTSTART;TZID=Europe/Oslo:20251212T133000
DTEND;TZID=Europe/Oslo:20251212T190000
X-ALT-DESC;FMTTYPE=TEXT/HTML:Åpningen er nå fullbooket! Meld deg på vent
 eliste her: [do_widget id=codewidget-2]
CATEGORIES:Generelt
URL;VALUE=URI:https://lius.digitelle.dev/mc-events/apning-av-lius/?mc_id=7
METHOD:PUBLISH
END:VEVENT
END:VCALENDAR